BEGIN:VCALENDAR
VERSION:2.0
PRODID:-//suceava.online - ECPv6.15.20//NONSGML v1.0//EN
CALSCALE:GREGORIAN
METHOD:PUBLISH
X-ORIGINAL-URL:https://suceava.online
X-WR-CALDESC:Evenimente pentru suceava.online
REFRESH-INTERVAL;VALUE=DURATION:PT1H
X-Robots-Tag:noindex
X-PUBLISHED-TTL:PT1H
BEGIN:VTIMEZONE
TZID:Europe/Bucharest
BEGIN:DAYLIGHT
TZOFFSETFROM:+0200
TZOFFSETTO:+0300
TZNAME:EEST
DTSTART:20230326T010000
END:DAYLIGHT
BEGIN:STANDARD
TZOFFSETFROM:+0300
TZOFFSETTO:+0200
TZNAME:EET
DTSTART:20231029T010000
END:STANDARD
BEGIN:DAYLIGHT
TZOFFSETFROM:+0200
TZOFFSETTO:+0300
TZNAME:EEST
DTSTART:20240331T010000
END:DAYLIGHT
BEGIN:STANDARD
TZOFFSETFROM:+0300
TZOFFSETTO:+0200
TZNAME:EET
DTSTART:20241027T010000
END:STANDARD
BEGIN:DAYLIGHT
TZOFFSETFROM:+0200
TZOFFSETTO:+0300
TZNAME:EEST
DTSTART:20250330T010000
END:DAYLIGHT
BEGIN:STANDARD
TZOFFSETFROM:+0300
TZOFFSETTO:+0200
TZNAME:EET
DTSTART:20251026T010000
END:STANDARD
BEGIN:DAYLIGHT
TZOFFSETFROM:+0200
TZOFFSETTO:+0300
TZNAME:EEST
DTSTART:20260329T010000
END:DAYLIGHT
BEGIN:STANDARD
TZOFFSETFROM:+0300
TZOFFSETTO:+0200
TZNAME:EET
DTSTART:20261025T010000
END:STANDARD
BEGIN:DAYLIGHT
TZOFFSETFROM:+0200
TZOFFSETTO:+0300
TZNAME:EEST
DTSTART:20270328T010000
END:DAYLIGHT
BEGIN:STANDARD
TZOFFSETFROM:+0300
TZOFFSETTO:+0200
TZNAME:EET
DTSTART:20271031T010000
END:STANDARD
END:VTIMEZONE
BEGIN:VEVENT
DTSTART;TZID=Europe/Bucharest:20260322T110000
DTEND;TZID=Europe/Bucharest:20260322T140000
DTSTAMP:20260422T080127
CREATED:20260202T184310Z
LAST-MODIFIED:20260202T184310Z
UID:10003980-1774177200-1774188000@suceava.online
SUMMARY:Buna Vestire (2026)
DESCRIPTION:Duminică\, 22 Martie 2026\, începând cu ora 11:00\, la Casa de Cultură Fundu Moldovei va avea loc festivalul-concurs național de muzică corală religioasă ortodoxă Buna Vestire\, ediția a XXXIV-a.
URL:https://suceava.online/evenimente/buna-vestire-2026/
LOCATION:Casa de Cultură Fundu Moldovei
CATEGORIES:festivaluri
ATTACH;FMTTYPE=image/jpeg:https://suceava.online/wp-content/uploads/2026/02/buna-vestire-2026.jpg
END:VEVENT
BEGIN:VEVENT
DTSTART;TZID=Europe/Bucharest:20250323T110000
DTEND;TZID=Europe/Bucharest:20250323T140000
DTSTAMP:20260422T080127
CREATED:20250221T113046Z
LAST-MODIFIED:20250326T154207Z
UID:10002323-1742727600-1742738400@suceava.online
SUMMARY:Buna Vestire (2025)
DESCRIPTION:Duminică\, 23 Martie 2025\, începând cu ora 11:00\, la Casa de Cultură Fundu Moldovei va avea loc festivalul-concurs național de muzică corală religioasă ortodoxă Buna Vestire\, ediția a XXXIII-a.
URL:https://suceava.online/evenimente/buna-vestire-2025/
LOCATION:Casa de Cultură Fundu Moldovei
CATEGORIES:concursuri,festivaluri
ATTACH;FMTTYPE=image/jpeg:https://suceava.online/wp-content/uploads/2025/02/buna-vestire-2025.jpg
END:VEVENT
BEGIN:VEVENT
DTSTART;TZID=Europe/Bucharest:20241012T130000
DTEND;TZID=Europe/Bucharest:20241012T150000
DTSTAMP:20260422T080127
CREATED:20241009T182844Z
LAST-MODIFIED:20241009T183030Z
UID:10001527-1728738000-1728745200@suceava.online
SUMMARY:Fluierași din Bucovina
DESCRIPTION:Sâmbătă\, 12 Octombrie 2024\, începând cu ora 13:00\, la Casa de Cultură Fundu Moldovei va avea loc evenimentul Fluierași din Bucovina. \n \nInvitați speciali: Paul Ananie\, Oana Tomoiagă\, Andreea Haisan\, Alexandru Brădățan\, Sorin Filip\, Junii Sibiului\, Liviu Taran\, Camelia Cosma Stoiță și Călin Brăteanu.
URL:https://suceava.online/evenimente/fluierasi-din-bucovina/
LOCATION:Casa de Cultură Fundu Moldovei
CATEGORIES:spectacole
ATTACH;FMTTYPE=image/jpeg:https://suceava.online/wp-content/uploads/2024/10/fluierasi-din-bucovina.jpg
END:VEVENT
END:VCALENDAR