BEGIN:VCALENDAR
VERSION:2.0
PRODID:-//suceava.online - ECPv6.15.20//NONSGML v1.0//EN
CALSCALE:GREGORIAN
METHOD:PUBLISH
X-WR-CALNAME:suceava.online
X-ORIGINAL-URL:https://suceava.online
X-WR-CALDESC:Evenimente pentru suceava.online
REFRESH-INTERVAL;VALUE=DURATION:PT1H
X-Robots-Tag:noindex
X-PUBLISHED-TTL:PT1H
BEGIN:VTIMEZONE
TZID:Europe/Bucharest
BEGIN:DAYLIGHT
TZOFFSETFROM:+0200
TZOFFSETTO:+0300
TZNAME:EEST
DTSTART:20220327T010000
END:DAYLIGHT
BEGIN:STANDARD
TZOFFSETFROM:+0300
TZOFFSETTO:+0200
TZNAME:EET
DTSTART:20221030T010000
END:STANDARD
BEGIN:DAYLIGHT
TZOFFSETFROM:+0200
TZOFFSETTO:+0300
TZNAME:EEST
DTSTART:20230326T010000
END:DAYLIGHT
BEGIN:STANDARD
TZOFFSETFROM:+0300
TZOFFSETTO:+0200
TZNAME:EET
DTSTART:20231029T010000
END:STANDARD
BEGIN:DAYLIGHT
TZOFFSETFROM:+0200
TZOFFSETTO:+0300
TZNAME:EEST
DTSTART:20240331T010000
END:DAYLIGHT
BEGIN:STANDARD
TZOFFSETFROM:+0300
TZOFFSETTO:+0200
TZNAME:EET
DTSTART:20241027T010000
END:STANDARD
BEGIN:DAYLIGHT
TZOFFSETFROM:+0200
TZOFFSETTO:+0300
TZNAME:EEST
DTSTART:20250330T010000
END:DAYLIGHT
BEGIN:STANDARD
TZOFFSETFROM:+0300
TZOFFSETTO:+0200
TZNAME:EET
DTSTART:20251026T010000
END:STANDARD
END:VTIMEZONE
BEGIN:VEVENT
DTSTART;TZID=Europe/Bucharest:20241017T170000
DTEND;TZID=Europe/Bucharest:20241017T183000
DTSTAMP:20260421T025002
CREATED:20241009T180540Z
LAST-MODIFIED:20241009T180540Z
UID:10001526-1729184400-1729189800@suceava.online
SUMMARY:Lili Crăciun - Codicilul
DESCRIPTION:Joi\, 17 Octombrie 2024\, începând cu ora 17:00\, la Galeria de Artă Zamca din Suceava va avea loc lansarea cărții Codicilul semnată de Lili Crăciun. \n \nModerator: Gabriela Teișanu. \nInvitat: Prof. dr. Mihaela Grădinaru. \nRecital muzical: Alexandru Teișanu.
URL:https://suceava.online/evenimente/lili-craciun-codicilul/
LOCATION:Galeria de Artă Zamca (Suceava)
CATEGORIES:lansări
ATTACH;FMTTYPE=image/jpeg:https://suceava.online/wp-content/uploads/2024/10/lili-craciun-codicilul.jpg
END:VEVENT
BEGIN:VEVENT
DTSTART;VALUE=DATE:20240913
DTEND;VALUE=DATE:20241001
DTSTAMP:20260421T025002
CREATED:20240905T091903Z
LAST-MODIFIED:20241007T061837Z
UID:10001346-1726185600-1727740799@suceava.online
SUMMARY:Dimitrie Balint - Viziune spre trecut
DESCRIPTION:În perioada 13-30 Septembrie 2024\, la Galeria de Artă Zamca din Suceava va avea loc expoziția de fotografie Viziune spre trecut semnată de Dimitrie Balint. \n \nCurator: Mihai Pânzaru PIM. \nCritic de artă: Delia Ioana Leizeriuc. \nOrganizator: Petru Vasile Gafiuc. \nVernisajul expoziției va avea loc vineri\, 13 Septembrie 2024\, începând cu ora 13:00.
URL:https://suceava.online/evenimente/dimitrie-balint-viziune-spre-trecut/
LOCATION:Galeria de Artă Zamca (Suceava)
CATEGORIES:expoziții
ATTACH;FMTTYPE=image/jpeg:https://suceava.online/wp-content/uploads/2024/09/dimitrie-balint-viziune-spre-trecut.jpg
END:VEVENT
BEGIN:VEVENT
DTSTART;VALUE=DATE:20240820
DTEND;VALUE=DATE:20240911
DTSTAMP:20260421T025002
CREATED:20240822T113615Z
LAST-MODIFIED:20240822T113615Z
UID:10001263-1724112000-1726012799@suceava.online
SUMMARY:Jocul cu absurdul
DESCRIPTION:În perioada 20 August 2024 – 10 Septembrie 2024\, la Galeria de Artă Zamca din Suceava va avea loc expoziția de fotografie Jocul cu absurdul. \n \nFotograf: Gelu Stănculescu. Colaboratoare: Maria Sîrclet. \nCurator: Mihai Pânzaru PIM. \nCritic de artă: Delia Ioana Leizeriuc. \nOrganizator: Petru Vasile Gafiuc. \nVernisajul expoziției va avea loc marți\, 20 August 2024\, începând cu ora 11:00.
URL:https://suceava.online/evenimente/jocul-cu-absurdul/
LOCATION:Galeria de Artă Zamca (Suceava)
CATEGORIES:expoziții
ATTACH;FMTTYPE=image/jpeg:https://suceava.online/wp-content/uploads/2024/08/jocul-cu-absurdul.jpg
END:VEVENT
BEGIN:VEVENT
DTSTART;VALUE=DATE:20240801
DTEND;VALUE=DATE:20240821
DTSTAMP:20260421T025002
CREATED:20240802T095942Z
LAST-MODIFIED:20240822T113321Z
UID:10001190-1722470400-1724198399@suceava.online
SUMMARY:Radu Bercea - Expresii
DESCRIPTION:În perioada 1-20 August 2024\, la Galeria de Artă Zamca din Suceava va avea loc expoziția Expresii semnată de Radu Bercea. \n \nCurator: Mihai Pânzaru PIM. \nCritic de artă: Delia Ioana Leizeriuc. \nOrganizator: Petru Vasile Gafiuc. \nVernisajul expoziției va avea loc vineri\, 9 August 2024\, începând cu ora 16:00.
URL:https://suceava.online/evenimente/radu-bercea-expresii/
LOCATION:Galeria de Artă Zamca (Suceava)
CATEGORIES:expoziții
ATTACH;FMTTYPE=image/jpeg:https://suceava.online/wp-content/uploads/2024/08/radu-bercea-expresii.jpg
END:VEVENT
BEGIN:VEVENT
DTSTART;VALUE=DATE:20240801
DTEND;VALUE=DATE:20240808
DTSTAMP:20260421T025002
CREATED:20240728T133732Z
LAST-MODIFIED:20240802T095847Z
UID:10001173-1722470400-1723075199@suceava.online
SUMMARY:EURO 2024 - De la firul ierbii
DESCRIPTION:În perioada 1-7 August 2024\, la Galeria de Artă Zamca din Suceava va avea loc expoziția de fotografie EURO 2024 – De la firul ierbii semnată de Codrin Anton. \n \nCurator: Mihai Pânzaru PIM. \nCritic de artă: Delia Ioana Leizeriuc. \nOrganizator: Petru Vasile Gafiuc. \nVernisajul expoziției va avea loc miercuri\, 31 Iulie 2024\, începând cu ora 17:00.
URL:https://suceava.online/evenimente/euro-2024-de-la-firul-ierbii/
LOCATION:Galeria de Artă Zamca (Suceava)
CATEGORIES:expoziții
ATTACH;FMTTYPE=image/jpeg:https://suceava.online/wp-content/uploads/2024/07/euro-2024-de-la-firul-ierbii.jpg
END:VEVENT
BEGIN:VEVENT
DTSTART;VALUE=DATE:20240704
DTEND;VALUE=DATE:20240801
DTSTAMP:20260421T025002
CREATED:20240701T165231Z
LAST-MODIFIED:20240701T165231Z
UID:10001061-1720051200-1722470399@suceava.online
SUMMARY:de la NATURĂ la DIVIN
DESCRIPTION:În perioada 4-31 Iulie 2024\, la Galeria de Artă Zamca din Suceava va avea loc expoziția de pictură pe pânză și sticlă de la NATURĂ la DIVIN semnată de Mihaela Sbârnău și Cristina Bilan. \n \nCurator: Mihai Pânzaru PIM. \nCritic de artă: Delia Ioana Leizeriuc. \nOrganizator: Petru Vasile Gafiuc. \nVernisajul expoziției va avea loc joi\, 4 Iulie 2024\, începând cu ora 16:00.
URL:https://suceava.online/evenimente/de-la-natura-la-divin/
LOCATION:Galeria de Artă Zamca (Suceava)
CATEGORIES:expoziții
ATTACH;FMTTYPE=image/jpeg:https://suceava.online/wp-content/uploads/2024/07/de-la-natura-la-divin.jpg
END:VEVENT
BEGIN:VEVENT
DTSTART;VALUE=DATE:20240619
DTEND;VALUE=DATE:20240701
DTSTAMP:20260421T025002
CREATED:20240613T103200Z
LAST-MODIFIED:20260325T154748Z
UID:10000978-1718755200-1719791999@suceava.online
SUMMARY:La Capătul Luminii
DESCRIPTION:În perioada 19-30 Iunie 2024\, la Galeria de Artă Zamca din Suceava va avea loc expoziția de pictură\, grafică și fotografie La Capătul Luminii. \n \nCurator: Mihai Pânzaru PIM. \nCritic de artă: Delia Ioana Leizeriuc. \nOrganizator: Petru Vasile Gafiuc. \nVernisajul expoziției va avea loc miercuri\, 19 Iunie 2024\, începând cu ora 17:30.
URL:https://suceava.online/evenimente/la-capatul-luminii/
LOCATION:Galeria de Artă Zamca (Suceava)
CATEGORIES:expoziții
ATTACH;FMTTYPE=image/jpeg:https://suceava.online/wp-content/uploads/2024/06/la-capatul-luminii.jpg
END:VEVENT
BEGIN:VEVENT
DTSTART;VALUE=DATE:20240523
DTEND;VALUE=DATE:20240611
DTSTAMP:20260421T025002
CREATED:20240522T080543Z
LAST-MODIFIED:20240524T081140Z
UID:10000847-1716422400-1718063999@suceava.online
SUMMARY:Maria Antoniac - Ambivalențe
DESCRIPTION:În perioada 23 Mai 2024 – 10 Iunie 2024\, la Galeria de Artă Zamca din Suceava va avea loc expoziția de pictură Ambivalențe semnată de Maria Antoniac. \n \nCurator: Mihai Pânzaru PIM. \nCritic de artă: Delia Ioana Leizeriuc. \nPromotor: Lucian Dimitriu. \nVernisajul expoziției va avea loc joi\, 23 Mai 2024\, începând cu ora 17:00. În cadrul evenimentului va avea loc un cafe concert susținut de Ioana Antoniac și Adrian Șoiman.
URL:https://suceava.online/evenimente/maria-antoniac-ambivalente/
LOCATION:Galeria de Artă Zamca (Suceava)
CATEGORIES:expoziții
ATTACH;FMTTYPE=image/jpeg:https://suceava.online/wp-content/uploads/2024/05/maria-antoniac-ambivalente.jpg
END:VEVENT
BEGIN:VEVENT
DTSTART;VALUE=DATE:20240510
DTEND;VALUE=DATE:20240601
DTSTAMP:20260421T025002
CREATED:20240508T122206Z
LAST-MODIFIED:20240508T122206Z
UID:10000769-1715299200-1717199999@suceava.online
SUMMARY:Pseudo-kubism
DESCRIPTION:În perioada 10-31 Mai 2024\, la Galeria de Artă Zamca din Suceava va avea loc expoziția Pseudo-kubism semnată de Iulian Dziubinski. \n \nCurator: Mihai Pânzaru PIM. \nCritic de artă: Delia Ioana Leizeriuc. \nVernisajul expoziției va avea loc miercuri\, 15 Mai 2024\, începând cu ora 16:30.
URL:https://suceava.online/evenimente/pseudo-kubism/
LOCATION:Galeria de Artă Zamca (Suceava)
CATEGORIES:expoziții
ATTACH;FMTTYPE=image/jpeg:https://suceava.online/wp-content/uploads/2024/05/pseudo-kubism.jpg
END:VEVENT
BEGIN:VEVENT
DTSTART;VALUE=DATE:20240401
DTEND;VALUE=DATE:20240501
DTSTAMP:20260421T025002
CREATED:20240404T072801Z
LAST-MODIFIED:20240404T072801Z
UID:10000606-1711929600-1714521599@suceava.online
SUMMARY:Amintiri în alb și negru - Călătorie prin istoria vizuală a Fălticeniului
DESCRIPTION:În perioada 1-30 Aprilie 2024\, de luni până vineri\, în intervalul orar 9:00 – 17:00\, la Galeria de Artă Zamca din Suceava va avea loc expoziția Amintiri în alb și negru – Călătorie prin istoria vizuală a Fălticeniului semnată de Marinel Dănilă. \n \nCurator: Mihai Pânzaru PIM\,\nCritic de artă: Delia Ioana Leizeriuc.
URL:https://suceava.online/evenimente/amintiri-in-alb-si-negru-calatorie-prin-istoria-vizuala-a-falticeniului/
LOCATION:Galeria de Artă Zamca (Suceava)
CATEGORIES:expoziții
ATTACH;FMTTYPE=image/jpeg:https://suceava.online/wp-content/uploads/2024/04/amintiri-in-alb-si-negru-calatorie-prin-istoria-vizuala-a-falticeniului.jpg
END:VEVENT
BEGIN:VEVENT
DTSTART;VALUE=DATE:20240315
DTEND;VALUE=DATE:20240401
DTSTAMP:20260421T025002
CREATED:20240314T100727Z
LAST-MODIFIED:20240316T101004Z
UID:10000505-1710460800-1711929599@suceava.online
SUMMARY:Ecouri din Atelier
DESCRIPTION:În perioada 15 Martie 2024 – 31 Martie 2024\, la Galeria de Artă Zamca din Suceava va avea loc expoziția Ecouri din Atelier semnată de Iolanda Bădăluță. \n \nCurator: Mihai Pânzaru PIM\,\nCritic de artă: Delia Ioana Leizeriuc. \nVernisajul expoziției va avea loc vineri\, 15 Martie 2024\, începând cu ora 13:00.
URL:https://suceava.online/evenimente/ecouri-din-atelier/
LOCATION:Galeria de Artă Zamca (Suceava)
CATEGORIES:expoziții
ATTACH;FMTTYPE=image/jpeg:https://suceava.online/wp-content/uploads/2024/03/ecouri-din-atelier.jpeg
END:VEVENT
BEGIN:VEVENT
DTSTART;VALUE=DATE:20240307
DTEND;VALUE=DATE:20240315
DTSTAMP:20260421T025002
CREATED:20240305T111249Z
LAST-MODIFIED:20240305T115437Z
UID:10000457-1709769600-1710460799@suceava.online
SUMMARY:Mama
DESCRIPTION:În perioada 7-14 Martie 2024\, la Galeria de Artă Zamca din Suceava va avea loc expoziția de pictură Mama. \n \nArtiști Participanți: Mihaela Aneculăesei\, Cristina Bilan\, Genoveva Bogdan\, Adriana Bucurel\, Doina Vionora Catargiu\, Loredana Mihaela Ceică\, Andra Ioana Huțanu\, Cristina Iacob\, Lucia Lupoaia\, Cristina Macoveiciuc\, Simona Mera\, Oana Chilariu Moruz\, Viorica Moruz\, Ana Maria Ovadiuc\, Florența Paveliuc\, Maria Ionela Pălimaru\, Marina Pișta\, Gabriela Popoveniuc\, Petronela Rusu\, Micsandra Vraci\, Victor Gabriel Aneculăesei\, Andreea Eliza Bogdan\, Alexandru Ștefan Ceică\, Sofia Chilariu\, Anastasia Huțanu\, Laurian Lupoaia\, Marga Olar\, Florentin Paveliuc\, Leon Pișta\, Mălina Maria Rusu\, Carla Vraci\, Horia Vraci\, Ezra Leizeriuc\, Vladimir Leizeriuc și Ancuța Rareș. \nCurator: Mihai Pânzaru PIM. \nCritic de artă: Delia Ioana Leizeriuc. \nInvitați: Antoniu Alexandru Flandorfer și Adela Șulea.  \nVernisajul expoziției va avea loc vineri\, 8 Martie 2024\, începând cu ora 17:30.
URL:https://suceava.online/evenimente/mama/
LOCATION:Galeria de Artă Zamca (Suceava)
CATEGORIES:expoziții
ATTACH;FMTTYPE=image/jpeg:https://suceava.online/wp-content/uploads/2024/03/mama.jpg
END:VEVENT
BEGIN:VEVENT
DTSTART;VALUE=DATE:20240220
DTEND;VALUE=DATE:20240308
DTSTAMP:20260421T025002
CREATED:20240220T204112Z
LAST-MODIFIED:20240220T204112Z
UID:10000347-1708387200-1709855999@suceava.online
SUMMARY:Gelu Gherman - ReCreativ
DESCRIPTION:În perioada 20 Februarie 2024 – 7 Martie 2024\, la Galeria de Artă Zamca din Suceava va avea loc expoziția ReCreativ semnată de Gelu Gherman. \n \nCurator: Mihai Pânzaru PIM. \nCritic de artă: Delia Ioana Leizeriuc. \nVernisajul expoziției va avea loc luni\, 26 Februarie 2024\, începând cu ora 17:15.
URL:https://suceava.online/evenimente/gelu-gherman-recreativ/
LOCATION:Galeria de Artă Zamca (Suceava)
CATEGORIES:expoziții
ATTACH;FMTTYPE=image/jpeg:https://suceava.online/wp-content/uploads/2024/02/gelu-gherman-recreativ.jpg
END:VEVENT
BEGIN:VEVENT
DTSTART;VALUE=DATE:20240201
DTEND;VALUE=DATE:20240216
DTSTAMP:20260421T025002
CREATED:20240131T142617Z
LAST-MODIFIED:20240131T142617Z
UID:10000221-1706745600-1708041599@suceava.online
SUMMARY:Catharsis
DESCRIPTION:În perioada 1-15 Februarie 2024\, la Galeria de Artă Zamca din Suceava va avea loc expoziția Catharsis semnată de Marina Pișta. \n \nCurator: Mihai Pânzaru PIM. \nCritic de artă: Delia Ioana Leizeriuc. \nVernisajul expoziției va avea loc marți\, 5 Februarie 2024\, începând cu ora 15:00.
URL:https://suceava.online/evenimente/catharsis/
LOCATION:Galeria de Artă Zamca (Suceava)
CATEGORIES:expoziții
ATTACH;FMTTYPE=image/jpeg:https://suceava.online/wp-content/uploads/2024/01/catharsis.jpg
END:VEVENT
BEGIN:VEVENT
DTSTART;VALUE=DATE:20240116
DTEND;VALUE=DATE:20240201
DTSTAMP:20260421T025002
CREATED:20240116T025313Z
LAST-MODIFIED:20240116T025313Z
UID:10000126-1705363200-1706745599@suceava.online
SUMMARY:Sublimare
DESCRIPTION:În perioada 16-31 Ianuarie 2024\, la Galeria de Artă Zamca din Suceava va avea loc expoziția Sublimare semnată de Mihai Pânzaru PIM. \n \nIlustrații grafice la poezia lui Adrian Păunescu. \nCritic de artă: Delia Ioana Leizeriuc. \nVernisajul expoziției va avea loc marți\, 16 Ianuarie 2024\, începând cu ora 13:00.
URL:https://suceava.online/evenimente/sublimare/
LOCATION:Galeria de Artă Zamca (Suceava)
CATEGORIES:expoziții
ATTACH;FMTTYPE=image/jpeg:https://suceava.online/wp-content/uploads/2024/01/sublimare.jpg
END:VEVENT
BEGIN:VEVENT
DTSTART;VALUE=DATE:20240110
DTEND;VALUE=DATE:20240201
DTSTAMP:20260421T025002
CREATED:20240109T133221Z
LAST-MODIFIED:20240125T100150Z
UID:10000085-1704844800-1706745599@suceava.online
SUMMARY:BUCOVINA - Pe dealuri neumblate
DESCRIPTION:În perioada 10-31 Ianuarie 2024\, la Galeria de Artă Zamca din Suceava va avea loc expoziția de fotografie BUCOVINA – Pe dealuri neumblate. \n \nCurator: Mihai Pânzaru PIM. \n34 de lucrări semnate de Nicoleta Andrian\, Codrin Anton\, Cosmin Bolohan\, Alin Calinciuc\, Valentin Ciobanu\, Robert Cîrdei\, Remus Dăneasă\, Constantin Galan\, Cristian Istrate\, Raul Koka\, Adrian Mitu\, Casian Mitu\, David Netedu\, Laura Păvăloaia\, Lăcrămioara Pânzaru și Marius Vasiliu. \nVernisajul expoziției va avea loc miercuri\, 10 Ianuarie 2024\, începând cu ora 18:00.
URL:https://suceava.online/evenimente/bucovina-pe-dealuri-neumblate/
LOCATION:Galeria de Artă Zamca (Suceava)
CATEGORIES:expoziții
ATTACH;FMTTYPE=image/jpeg:https://suceava.online/wp-content/uploads/2024/01/bucovina-pe-dealuri-neumblate.jpg
END:VEVENT
BEGIN:VEVENT
DTSTART;VALUE=DATE:20231211
DTEND;VALUE=DATE:20240104
DTSTAMP:20260421T025002
CREATED:20240101T110133Z
LAST-MODIFIED:20240104T101317Z
UID:10000023-1702252800-1704326399@suceava.online
SUMMARY:Îngerii Crăciunului
DESCRIPTION:În perioada 11 Decembrie 2023 – 3 Ianuarie 2024\, la Galeria de Artă Zamca din Suceava va avea loc expoziția de artă decorativă Îngerii Crăciunului. \n \nCurator: Mihai Pânzaru PIM.\nCritic de artă: Delia Ioana Leizeriuc. \nVernisajul expoziției va avea loc miercuri\, 13 Decembrie 2023\, începând cu ora 13:00.
URL:https://suceava.online/evenimente/ingerii-craciunului/
LOCATION:Galeria de Artă Zamca (Suceava)
CATEGORIES:expoziții
ATTACH;FMTTYPE=image/jpeg:https://suceava.online/wp-content/uploads/2024/01/ingerii-craciunului.jpg
END:VEVENT
END:VCALENDAR