BEGIN:VCALENDAR
VERSION:2.0
PRODID:-//suceava.online - ECPv6.15.20//NONSGML v1.0//EN
CALSCALE:GREGORIAN
METHOD:PUBLISH
X-ORIGINAL-URL:https://suceava.online
X-WR-CALDESC:Evenimente pentru suceava.online
REFRESH-INTERVAL;VALUE=DURATION:PT1H
X-Robots-Tag:noindex
X-PUBLISHED-TTL:PT1H
BEGIN:VTIMEZONE
TZID:Europe/Bucharest
BEGIN:DAYLIGHT
TZOFFSETFROM:+0200
TZOFFSETTO:+0300
TZNAME:EEST
DTSTART:20230326T010000
END:DAYLIGHT
BEGIN:STANDARD
TZOFFSETFROM:+0300
TZOFFSETTO:+0200
TZNAME:EET
DTSTART:20231029T010000
END:STANDARD
BEGIN:DAYLIGHT
TZOFFSETFROM:+0200
TZOFFSETTO:+0300
TZNAME:EEST
DTSTART:20240331T010000
END:DAYLIGHT
BEGIN:STANDARD
TZOFFSETFROM:+0300
TZOFFSETTO:+0200
TZNAME:EET
DTSTART:20241027T010000
END:STANDARD
BEGIN:DAYLIGHT
TZOFFSETFROM:+0200
TZOFFSETTO:+0300
TZNAME:EEST
DTSTART:20250330T010000
END:DAYLIGHT
BEGIN:STANDARD
TZOFFSETFROM:+0300
TZOFFSETTO:+0200
TZNAME:EET
DTSTART:20251026T010000
END:STANDARD
BEGIN:DAYLIGHT
TZOFFSETFROM:+0200
TZOFFSETTO:+0300
TZNAME:EEST
DTSTART:20260329T010000
END:DAYLIGHT
BEGIN:STANDARD
TZOFFSETFROM:+0300
TZOFFSETTO:+0200
TZNAME:EET
DTSTART:20261025T010000
END:STANDARD
END:VTIMEZONE
BEGIN:VEVENT
DTSTART;TZID=Europe/Bucharest:20250802T150000
DTEND;TZID=Europe/Bucharest:20250802T230000
DTSTAMP:20260420T000140
CREATED:20250708T115801Z
LAST-MODIFIED:20250708T115953Z
UID:10002972-1754146800-1754175600@suceava.online
SUMMARY:Dor de bine
DESCRIPTION:Vineri\, 2 August 2025\, între orele 12:00 și 17:00\, la Vatra Boierească din Cacica va avea loc târgul Dor de bine\, ediația a doua. \n \nProgram\n\nora 15:00\nDeschiderea târgului\nora 19:00\nVoicu Dorin – saxofon live\nora 19:30\nConcert Laura Erhan\nora 21:00\nAfter party cu Carmen Chindriș și Taraful Rutenilor
URL:https://suceava.online/evenimente/dor-de-bine/
LOCATION:Vatra Boierească (Cacica)
CATEGORIES:târguri
ATTACH;FMTTYPE=image/jpeg:https://suceava.online/wp-content/uploads/2025/07/dor-de-bine.jpg
END:VEVENT
BEGIN:VEVENT
DTSTART;TZID=Europe/Bucharest:20250601T120000
DTEND;TZID=Europe/Bucharest:20250601T170000
DTSTAMP:20260420T000140
CREATED:20250402T071628Z
LAST-MODIFIED:20250402T071628Z
UID:10002561-1748779200-1748797200@suceava.online
SUMMARY:Brunch Fain
DESCRIPTION:Duminică\, 1 Iunie 2025\, între orele 12:00 și 17:00\, la Vatra Boierească din Cacica va avea loc evenimentul Brunch Fain.
URL:https://suceava.online/evenimente/brunch-fain/
LOCATION:Vatra Boierească (Cacica)
CATEGORIES:brunch-uri
ATTACH;FMTTYPE=image/jpeg:https://suceava.online/wp-content/uploads/2025/04/brunch-fain.jpg
END:VEVENT
BEGIN:VEVENT
DTSTART;VALUE=DATE:20250321
DTEND;VALUE=DATE:20250324
DTSTAMP:20260420T000140
CREATED:20250214T142933Z
LAST-MODIFIED:20250214T151118Z
UID:10002254-1742515200-1742774399@suceava.online
SUMMARY:Bootcamp-ul InBusiness (2025)
DESCRIPTION:În perioada 21-23 Martie 2025\, la Vatra Boierească din Cacica va avea loc Bootcamp-ul InBusiness susținut de  Adrian Cioroianu și Robert Răducanu. \n \nEvenimentul oferă o oportunitate unică de a învăța de la experți de top într-un cadru inspirativ și relaxant. \nSpeakerul principal al evenimentului este Adrian Cioroianu\, expert cu peste 20 de ani de experiență în vânzări și consultanță\, care a fost speaker în cadrul evenimentului Bucovina InBusiness 2.0. El revine pentru a aprofunda tema vânzărilor cu sesiunea „Strategia de Vânzări 2025: Adaptare și Inovare”. Cu o abordare inovatoare\, Adrian îți va oferi instrumentele necesare pentru a anticipa și răspunde eficient la nevoile în continuă schimbare ale pieței. Vei învăța cum să dezvolți strategii care stimulează creșterea afacerii tale\, pregătindu-te pentru provocările din 2025. \nRobert Răducanu\, Business Coach acreditat internațional ICF și Consultant de afaceri\, cu un background de peste 15 ani în management și vânzări\, pasionat în același timp de cifre/date analitice și dezvoltarea oamenilor din companii. Membru co-fondator InBusiness Club\, va aborda importanța managementului timpului în sesiunea „Timpul: Aliat sau Dușman?”. Acest workshop interactiv se adresează liderilor care doresc să își îmbunătățească eficiența personală și profesională prin conștientizare și tehnici de time management. \nParticiparea la bootcamp reprezintă nu doar o oportunitate de dezvoltare personală\, ci și o platformă excelentă pentru a interacționa cu alți profesioniști și a stabili noi parteneriate.
URL:https://suceava.online/evenimente/bootcamp-ul-inbusiness-2025/
LOCATION:Vatra Boierească (Cacica)
CATEGORIES:activități
ATTACH;FMTTYPE=image/jpeg:https://suceava.online/wp-content/uploads/2025/02/bootcamp-ul-inbusiness-2025.jpg
END:VEVENT
BEGIN:VEVENT
DTSTART;TZID=Europe/Bucharest:20240622T120000
DTEND;TZID=Europe/Bucharest:20240622T170000
DTSTAMP:20260420T000140
CREATED:20240520T133918Z
LAST-MODIFIED:20240520T133918Z
UID:10000821-1719057600-1719075600@suceava.online
SUMMARY:Brunch Boieresc în Cacica
DESCRIPTION:Sâmbătă\, 22 Iunie 2024\, între orele 12:00 și 17:00\, la Vatra Boierească din Cacica va avea loc evenimentul Brunch Boieresc în Cacica.
URL:https://suceava.online/evenimente/brunch-boieresc-in-cacica/
LOCATION:Vatra Boierească (Cacica)
CATEGORIES:brunch-uri
ATTACH;FMTTYPE=image/jpeg:https://suceava.online/wp-content/uploads/2024/05/brunch-boieresc-in-cacica.jpg
END:VEVENT
BEGIN:VEVENT
DTSTART;VALUE=DATE:20240405
DTEND;VALUE=DATE:20240408
DTSTAMP:20260420T000140
CREATED:20240306T172220Z
LAST-MODIFIED:20250214T142943Z
UID:10000469-1712275200-1712534399@suceava.online
SUMMARY:Management strategic pentru performanță în afaceri
DESCRIPTION:În perioada 5-7 Aprilie 2024\, la Vatra Boierească din Cacica va avea loc bootcamp-ul Management strategic pentru performanță în afaceri susținut de Dan Schipor.
URL:https://suceava.online/evenimente/management-strategic-pentru-performanta-in-afaceri/
LOCATION:Vatra Boierească (Cacica)
CATEGORIES:cursuri
ATTACH;FMTTYPE=image/jpeg:https://suceava.online/wp-content/uploads/2024/03/management-strategic-pentru-performanta-in-afaceri.jpg
END:VEVENT
END:VCALENDAR