BEGIN:VCALENDAR
VERSION:2.0
PRODID:-//suceava.online - ECPv6.15.20//NONSGML v1.0//EN
CALSCALE:GREGORIAN
METHOD:PUBLISH
X-WR-CALNAME:suceava.online
X-ORIGINAL-URL:https://suceava.online
X-WR-CALDESC:Evenimente pentru suceava.online
REFRESH-INTERVAL;VALUE=DURATION:PT1H
X-Robots-Tag:noindex
X-PUBLISHED-TTL:PT1H
BEGIN:VTIMEZONE
TZID:Europe/Bucharest
BEGIN:DAYLIGHT
TZOFFSETFROM:+0200
TZOFFSETTO:+0300
TZNAME:EEST
DTSTART:20230326T010000
END:DAYLIGHT
BEGIN:STANDARD
TZOFFSETFROM:+0300
TZOFFSETTO:+0200
TZNAME:EET
DTSTART:20231029T010000
END:STANDARD
BEGIN:DAYLIGHT
TZOFFSETFROM:+0200
TZOFFSETTO:+0300
TZNAME:EEST
DTSTART:20240331T010000
END:DAYLIGHT
BEGIN:STANDARD
TZOFFSETFROM:+0300
TZOFFSETTO:+0200
TZNAME:EET
DTSTART:20241027T010000
END:STANDARD
BEGIN:DAYLIGHT
TZOFFSETFROM:+0200
TZOFFSETTO:+0300
TZNAME:EEST
DTSTART:20250330T010000
END:DAYLIGHT
BEGIN:STANDARD
TZOFFSETFROM:+0300
TZOFFSETTO:+0200
TZNAME:EET
DTSTART:20251026T010000
END:STANDARD
BEGIN:DAYLIGHT
TZOFFSETFROM:+0200
TZOFFSETTO:+0300
TZNAME:EEST
DTSTART:20260329T010000
END:DAYLIGHT
BEGIN:STANDARD
TZOFFSETFROM:+0300
TZOFFSETTO:+0200
TZNAME:EET
DTSTART:20261025T010000
END:STANDARD
BEGIN:DAYLIGHT
TZOFFSETFROM:+0200
TZOFFSETTO:+0300
TZNAME:EEST
DTSTART:20270328T010000
END:DAYLIGHT
BEGIN:STANDARD
TZOFFSETFROM:+0300
TZOFFSETTO:+0200
TZNAME:EET
DTSTART:20271031T010000
END:STANDARD
END:VTIMEZONE
BEGIN:VEVENT
DTSTART;TZID=Europe/Bucharest:20260308T100000
DTEND;TZID=Europe/Bucharest:20260308T130000
DTSTAMP:20260421T115923
CREATED:20260305T130120Z
LAST-MODIFIED:20260305T130149Z
UID:10004178-1772964000-1772974800@suceava.online
SUMMARY:Alerg pentru Mama (2026)
DESCRIPTION:Duminică\, 8 Martie 2026\, începând cu ora 10:00\, la Suceava va avea loc crosul caritabil Alerg pentru Mama\, ediția a V-a.
URL:https://suceava.online/evenimente/alerg-pentru-mama-2026/
LOCATION:Municipiul Suceava
CATEGORIES:concursuri
ATTACH;FMTTYPE=image/jpeg:https://suceava.online/wp-content/uploads/2026/03/alerg-pentru-mama-2026.jpg
END:VEVENT
BEGIN:VEVENT
DTSTART;VALUE=DATE:20251227
DTEND;VALUE=DATE:20251228
DTSTAMP:20260421T115923
CREATED:20250306T110558Z
LAST-MODIFIED:20250306T110558Z
UID:10002422-1766793600-1766879999@suceava.online
SUMMARY:Winter BUZ (2025)
DESCRIPTION:Sâmbătă\, 27 Decembrie 2025\, la Suceava va avea loc Winter BUZ.
URL:https://suceava.online/evenimente/winter-buz-2025/
LOCATION:Municipiul Suceava
CATEGORIES:concursuri
END:VEVENT
BEGIN:VEVENT
DTSTART;TZID=Europe/Bucharest:20251018T100000
DTEND;TZID=Europe/Bucharest:20251018T130000
DTSTAMP:20260421T115923
CREATED:20250306T110519Z
LAST-MODIFIED:20251008T214256Z
UID:10002421-1760781600-1760792400@suceava.online
SUMMARY:Crosul Cetăților Suceava (2025)
DESCRIPTION:Sâmbătă\, 18 Octombrie 2025\, începând cu ora 10:00\, la Suceava va avea loc Crosul Cetăților Suceava.
URL:https://suceava.online/evenimente/crosul-cetatilor-suceava-2025/
LOCATION:Municipiul Suceava
CATEGORIES:concursuri
ATTACH;FMTTYPE=image/jpeg:https://suceava.online/wp-content/uploads/2025/03/crosul-cetatilor-suceava-2025.jpg
END:VEVENT
BEGIN:VEVENT
DTSTART;TZID=Europe/Bucharest:20250913T080000
DTEND;TZID=Europe/Bucharest:20250913T170000
DTSTAMP:20260421T115923
CREATED:20250306T105708Z
LAST-MODIFIED:20250902T121755Z
UID:10002419-1757750400-1757782800@suceava.online
SUMMARY:Maratonul Dragomirnei (2025)
DESCRIPTION:Sâmbătă\, 13 Septembrie 2025\, începând cu ora 8:00\, la Mitocu Dragomirnei va avea loc Maratonul Dragomirnei.
URL:https://suceava.online/evenimente/maratonul-dragomirnei-2025/
LOCATION:Școala de Echitatie Equestrian Dreams (Mitocu Dragomirnei)
CATEGORIES:concursuri
END:VEVENT
BEGIN:VEVENT
DTSTART;VALUE=DATE:20250517
DTEND;VALUE=DATE:20250518
DTSTAMP:20260421T115923
CREATED:20250306T110428Z
LAST-MODIFIED:20250306T110505Z
UID:10002420-1747440000-1747526399@suceava.online
SUMMARY:Backyard Ultra Zamca (2025)
DESCRIPTION:Sâmbătă\, 17 Mai 2025\, la Suceava va avea loc Backyard Ultra Zamca.
URL:https://suceava.online/evenimente/backyard-ultra-zamca-2025/
LOCATION:Municipiul Suceava
CATEGORIES:concursuri
END:VEVENT
BEGIN:VEVENT
DTSTART;TZID=Europe/Bucharest:20240914T090000
DTEND;TZID=Europe/Bucharest:20240914T170000
DTSTAMP:20260421T115923
CREATED:20240103T124224Z
LAST-MODIFIED:20240912T101910Z
UID:10000055-1726304400-1726333200@suceava.online
SUMMARY:Maratonul Dragomirnei (2024)
DESCRIPTION:Sâmbătă\, 14 Septembrie 2024\, începând cu ora 9:00\, în comuna Mitocu Dragomirnei va avea loc Maratonul Dragomirnei. \n \nÎncepând cu ora 18:00\, va avea loc un concert susținut de Trupa 9.
URL:https://suceava.online/evenimente/maratonul-dragomirnei-2024/
LOCATION:Satul Dragomirna
CATEGORIES:competiții,maratoane
ATTACH;FMTTYPE=image/jpeg:https://suceava.online/wp-content/uploads/2024/01/maratonul-dragomirnei-2024.jpg
END:VEVENT
END:VCALENDAR