BEGIN:VCALENDAR
VERSION:2.0
PRODID:-//suceava.online - ECPv6.15.20//NONSGML v1.0//EN
CALSCALE:GREGORIAN
METHOD:PUBLISH
X-WR-CALNAME:suceava.online
X-ORIGINAL-URL:https://suceava.online
X-WR-CALDESC:Evenimente pentru suceava.online
REFRESH-INTERVAL;VALUE=DURATION:PT1H
X-Robots-Tag:noindex
X-PUBLISHED-TTL:PT1H
BEGIN:VTIMEZONE
TZID:Europe/Bucharest
BEGIN:DAYLIGHT
TZOFFSETFROM:+0200
TZOFFSETTO:+0300
TZNAME:EEST
DTSTART:20230326T010000
END:DAYLIGHT
BEGIN:STANDARD
TZOFFSETFROM:+0300
TZOFFSETTO:+0200
TZNAME:EET
DTSTART:20231029T010000
END:STANDARD
BEGIN:DAYLIGHT
TZOFFSETFROM:+0200
TZOFFSETTO:+0300
TZNAME:EEST
DTSTART:20240331T010000
END:DAYLIGHT
BEGIN:STANDARD
TZOFFSETFROM:+0300
TZOFFSETTO:+0200
TZNAME:EET
DTSTART:20241027T010000
END:STANDARD
BEGIN:DAYLIGHT
TZOFFSETFROM:+0200
TZOFFSETTO:+0300
TZNAME:EEST
DTSTART:20250330T010000
END:DAYLIGHT
BEGIN:STANDARD
TZOFFSETFROM:+0300
TZOFFSETTO:+0200
TZNAME:EET
DTSTART:20251026T010000
END:STANDARD
BEGIN:DAYLIGHT
TZOFFSETFROM:+0200
TZOFFSETTO:+0300
TZNAME:EEST
DTSTART:20260329T010000
END:DAYLIGHT
BEGIN:STANDARD
TZOFFSETFROM:+0300
TZOFFSETTO:+0200
TZNAME:EET
DTSTART:20261025T010000
END:STANDARD
BEGIN:DAYLIGHT
TZOFFSETFROM:+0200
TZOFFSETTO:+0300
TZNAME:EEST
DTSTART:20270328T010000
END:DAYLIGHT
BEGIN:STANDARD
TZOFFSETFROM:+0300
TZOFFSETTO:+0200
TZNAME:EET
DTSTART:20271031T010000
END:STANDARD
END:VTIMEZONE
BEGIN:VEVENT
DTSTART;TZID=Europe/Bucharest:20260222T120000
DTEND;TZID=Europe/Bucharest:20260222T170000
DTSTAMP:20260419T220816
CREATED:20260208T230116Z
LAST-MODIFIED:20260208T230116Z
UID:10004004-1771761600-1771779600@suceava.online
SUMMARY:Alaiul de pe culme
DESCRIPTION:Duminică\, 22 Februarie 2026\, începând cu ora 12:00\, Panorama Bucovinei din Sadova te invită la Alaiul de pe culme. \n \nInvitați: Laura Erhan\, Dorin Voicu și Vlad Miron.
URL:https://suceava.online/evenimente/alaiul-de-pe-culme/
LOCATION:Panorama Bucovinei (Sadova)
CATEGORIES:parade,petreceri
ATTACH;FMTTYPE=image/jpeg:https://suceava.online/wp-content/uploads/2026/02/alaiul-de-pe-culme.jpg
END:VEVENT
BEGIN:VEVENT
DTSTART;TZID=Europe/Bucharest:20250830T140000
DTEND;TZID=Europe/Bucharest:20250830T220000
DTSTAMP:20260419T220816
CREATED:20250722T122358Z
LAST-MODIFIED:20260208T225709Z
UID:10003029-1756562400-1756591200@suceava.online
SUMMARY:F. Charm
DESCRIPTION:Sâmbătă\, 30 August 2025\, începând cu ora 14:00\, Panorama Bucovinei din Sadova te invită la un concert susținut de F.Charm.
URL:https://suceava.online/evenimente/f-charm-2/
LOCATION:Panorama Bucovinei (Sadova)
CATEGORIES:concerte
ATTACH;FMTTYPE=image/jpeg:https://suceava.online/wp-content/uploads/2025/07/f-charm-2.jpg
END:VEVENT
BEGIN:VEVENT
DTSTART;TZID=Europe/Bucharest:20241130T130000
DTEND;TZID=Europe/Bucharest:20241130T220000
DTSTAMP:20260419T220816
CREATED:20241128T210553Z
LAST-MODIFIED:20241128T210553Z
UID:10001828-1732971600-1733004000@suceava.online
SUMMARY:Ziua României la Panorama Bucovinei
DESCRIPTION:Sâmbătă\, 30 Noiembrie 2024\, începând cu ora 13:00\, Panorama Bucovinei din Sadova te invită la Ziua României.  \n \nInvitați: Formația Concept Band\, Loredana Călin\, Voicu Sax\, Călin Brăteanu și Ansamblul Obcina Stânișoarei din Mălini.
URL:https://suceava.online/evenimente/ziua-romaniei-la-panorama-bucovinei/
LOCATION:Panorama Bucovinei (Sadova)
CATEGORIES:petreceri
ATTACH;FMTTYPE=image/jpeg:https://suceava.online/wp-content/uploads/2024/11/ziua-romaniei-la-panorama-bucovinei.jpg
END:VEVENT
BEGIN:VEVENT
DTSTART;TZID=Europe/Bucharest:20240720T180000
DTEND;TZID=Europe/Bucharest:20240721T040000
DTSTAMP:20260419T220816
CREATED:20240626T201541Z
LAST-MODIFIED:20241128T210355Z
UID:10001042-1721498400-1721534400@suceava.online
SUMMARY:Amestec Party
DESCRIPTION:Sâmbătă\, 20 Iulie 2024\, începând cu ora 17:00\, Panorama Bucovinei din Sadova te invită la Amestec Party.  \n \nInvitați: Zentone\, Mutt & Dee\, Răzvan\, SINO\, Dorin Voicu\, Vlad Ciubotariu și Loredana Călin.
URL:https://suceava.online/evenimente/amestec-party/
LOCATION:Panorama Bucovinei (Sadova)
CATEGORIES:petreceri
ATTACH;FMTTYPE=image/jpeg:https://suceava.online/wp-content/uploads/2024/06/amestec-party.jpg
END:VEVENT
END:VCALENDAR