BEGIN:VCALENDAR
VERSION:2.0
PRODID:-//suceava.online - ECPv6.15.20//NONSGML v1.0//EN
CALSCALE:GREGORIAN
METHOD:PUBLISH
X-WR-CALNAME:suceava.online
X-ORIGINAL-URL:https://suceava.online
X-WR-CALDESC:Evenimente pentru suceava.online
REFRESH-INTERVAL;VALUE=DURATION:PT1H
X-Robots-Tag:noindex
X-PUBLISHED-TTL:PT1H
BEGIN:VTIMEZONE
TZID:Europe/Bucharest
BEGIN:DAYLIGHT
TZOFFSETFROM:+0200
TZOFFSETTO:+0300
TZNAME:EEST
DTSTART:20230326T010000
END:DAYLIGHT
BEGIN:STANDARD
TZOFFSETFROM:+0300
TZOFFSETTO:+0200
TZNAME:EET
DTSTART:20231029T010000
END:STANDARD
BEGIN:DAYLIGHT
TZOFFSETFROM:+0200
TZOFFSETTO:+0300
TZNAME:EEST
DTSTART:20240331T010000
END:DAYLIGHT
BEGIN:STANDARD
TZOFFSETFROM:+0300
TZOFFSETTO:+0200
TZNAME:EET
DTSTART:20241027T010000
END:STANDARD
BEGIN:DAYLIGHT
TZOFFSETFROM:+0200
TZOFFSETTO:+0300
TZNAME:EEST
DTSTART:20250330T010000
END:DAYLIGHT
BEGIN:STANDARD
TZOFFSETFROM:+0300
TZOFFSETTO:+0200
TZNAME:EET
DTSTART:20251026T010000
END:STANDARD
BEGIN:DAYLIGHT
TZOFFSETFROM:+0200
TZOFFSETTO:+0300
TZNAME:EEST
DTSTART:20260329T010000
END:DAYLIGHT
BEGIN:STANDARD
TZOFFSETFROM:+0300
TZOFFSETTO:+0200
TZNAME:EET
DTSTART:20261025T010000
END:STANDARD
END:VTIMEZONE
BEGIN:VEVENT
DTSTART;TZID=Europe/Bucharest:20250601T090000
DTEND;TZID=Europe/Bucharest:20250601T180000
DTSTAMP:20260419T224856
CREATED:20250521T113910Z
LAST-MODIFIED:20250521T113910Z
UID:10002779-1748768400-1748800800@suceava.online
SUMMARY:Ziua Copilului cu VNT
DESCRIPTION:Duminică\, 1 Iunie 2025\, începând cu ora 9:00\, la Pârtia Veverița din Vatra Dornei va avea loc Ziua Copilului cu VNT\, ediția a IV-a.
URL:https://suceava.online/evenimente/ziua-copilului-cu-vnt/
LOCATION:Pârtia Veverița (Vatra Dornei)
CATEGORIES:activități
ATTACH;FMTTYPE=image/jpeg:https://suceava.online/wp-content/uploads/2025/05/ziua-copilului-cu-vnt.jpg
END:VEVENT
BEGIN:VEVENT
DTSTART;TZID=Europe/Bucharest:20240601T090000
DTEND;TZID=Europe/Bucharest:20240601T210000
DTSTAMP:20260419T224856
CREATED:20240530T122008Z
LAST-MODIFIED:20240530T122008Z
UID:10000910-1717232400-1717275600@suceava.online
SUMMARY:1 Iunie alături de VDT
DESCRIPTION:Sâmbătă\, 1 Iunie 2024\, între orele 9:00 și 22:00\, la Vatra Dornei va avea loc evenimentul 1 Iunie alături de VDT.
URL:https://suceava.online/evenimente/1-iunie-alaturi-de-vdt/
LOCATION:Municipiul Vatra Dornei
CATEGORIES:activități
ATTACH;FMTTYPE=image/jpeg:https://suceava.online/wp-content/uploads/2024/05/1-iunie-alaturi-de-vdt.jpg
END:VEVENT
END:VCALENDAR